BEGIN:VCALENDAR
VERSION:2.0
PRODID:-//New Mexico Highlands University - ECPv6.15.20//NONSGML v1.0//EN
CALSCALE:GREGORIAN
METHOD:PUBLISH
X-ORIGINAL-URL:https://www.nmhu.edu
X-WR-CALDESC:Events for New Mexico Highlands University
REFRESH-INTERVAL;VALUE=DURATION:PT1H
X-Robots-Tag:noindex
X-PUBLISHED-TTL:PT1H
BEGIN:VTIMEZONE
TZID:America/Denver
BEGIN:DAYLIGHT
TZOFFSETFROM:-0700
TZOFFSETTO:-0600
TZNAME:MDT
DTSTART:20240310T090000
END:DAYLIGHT
BEGIN:STANDARD
TZOFFSETFROM:-0600
TZOFFSETTO:-0700
TZNAME:MST
DTSTART:20241103T080000
END:STANDARD
BEGIN:DAYLIGHT
TZOFFSETFROM:-0700
TZOFFSETTO:-0600
TZNAME:MDT
DTSTART:20250309T090000
END:DAYLIGHT
BEGIN:STANDARD
TZOFFSETFROM:-0600
TZOFFSETTO:-0700
TZNAME:MST
DTSTART:20251102T080000
END:STANDARD
BEGIN:DAYLIGHT
TZOFFSETFROM:-0700
TZOFFSETTO:-0600
TZNAME:MDT
DTSTART:20260308T090000
END:DAYLIGHT
BEGIN:STANDARD
TZOFFSETFROM:-0600
TZOFFSETTO:-0700
TZNAME:MST
DTSTART:20261101T080000
END:STANDARD
END:VTIMEZONE
BEGIN:VEVENT
DTSTART;TZID=America/Denver:20250812T080000
DTEND;TZID=America/Denver:20250812T170000
DTSTAMP:20260423T192910
CREATED:20250721T174317Z
LAST-MODIFIED:20250721T174317Z
UID:83042-1754985600-1755018000@www.nmhu.edu
SUMMARY:Resident Assistants Training
DESCRIPTION:NMHU Resident Assistants Training\nStudent Union Building\, room. 320 \nAugust 11\, 12\, & 13th \n8-5pm \nFor more information\, please contact Jacinda Woodruff at 505-454-3526.
URL:https://www.nmhu.edu/event/resident-assistants-training/2025-08-12/
LOCATION:SUB – Student Union Building
CATEGORIES:NMHU Events
END:VEVENT
END:VCALENDAR