BEGIN:VCALENDAR
VERSION:2.0
PRODID:-//New Mexico Highlands University - ECPv6.15.20//NONSGML v1.0//EN
CALSCALE:GREGORIAN
METHOD:PUBLISH
X-ORIGINAL-URL:https://www.nmhu.edu
X-WR-CALDESC:Events for New Mexico Highlands University
REFRESH-INTERVAL;VALUE=DURATION:PT1H
X-Robots-Tag:noindex
X-PUBLISHED-TTL:PT1H
BEGIN:VTIMEZONE
TZID:America/Denver
BEGIN:DAYLIGHT
TZOFFSETFROM:-0700
TZOFFSETTO:-0600
TZNAME:MDT
DTSTART:20240310T090000
END:DAYLIGHT
BEGIN:STANDARD
TZOFFSETFROM:-0600
TZOFFSETTO:-0700
TZNAME:MST
DTSTART:20241103T080000
END:STANDARD
BEGIN:DAYLIGHT
TZOFFSETFROM:-0700
TZOFFSETTO:-0600
TZNAME:MDT
DTSTART:20250309T090000
END:DAYLIGHT
BEGIN:STANDARD
TZOFFSETFROM:-0600
TZOFFSETTO:-0700
TZNAME:MST
DTSTART:20251102T080000
END:STANDARD
BEGIN:DAYLIGHT
TZOFFSETFROM:-0700
TZOFFSETTO:-0600
TZNAME:MDT
DTSTART:20260308T090000
END:DAYLIGHT
BEGIN:STANDARD
TZOFFSETFROM:-0600
TZOFFSETTO:-0700
TZNAME:MST
DTSTART:20261101T080000
END:STANDARD
END:VTIMEZONE
BEGIN:VEVENT
DTSTART;TZID=America/Denver:20250207T143000
DTEND;TZID=America/Denver:20250207T163000
DTSTAMP:20260421T122242
CREATED:20250127T210107Z
LAST-MODIFIED:20250127T210107Z
UID:69164-1738938600-1738945800@www.nmhu.edu
SUMMARY:Donnelly Library Queer Crafting
DESCRIPTION:Join in a magical afternoon of creativity & community. Make zines\, papercrafts\, fiber arts\, etc. Miscellaneous supplies provided\, or bring your own project to work on. LGBTQ+ & allies welcome. Friday\, February 7th\, Donnelly Library Multipurpose Room\, 2:30-4:30 pm. Free.
URL:https://www.nmhu.edu/event/donnelly-library-queer-crafting/
LOCATION:Donnelly Library\, 802 National Avenue\, Las Vegas\, NM\, 87701\, United States
CATEGORIES:Arts,NMHU Events
ATTACH;FMTTYPE=image/png:https://www.nmhu.edu/wp-content/uploads/2025/01/queer-craft-night-abe66eb10f072c67329d2f77dc09619b.png
END:VEVENT
END:VCALENDAR