BEGIN:VCALENDAR
VERSION:2.0
PRODID:-//New Mexico Highlands University - ECPv6.15.20//NONSGML v1.0//EN
CALSCALE:GREGORIAN
METHOD:PUBLISH
X-WR-CALNAME:New Mexico Highlands University
X-ORIGINAL-URL:https://www.nmhu.edu
X-WR-CALDESC:Events for New Mexico Highlands University
REFRESH-INTERVAL;VALUE=DURATION:PT1H
X-Robots-Tag:noindex
X-PUBLISHED-TTL:PT1H
BEGIN:VTIMEZONE
TZID:America/Denver
BEGIN:DAYLIGHT
TZOFFSETFROM:-0700
TZOFFSETTO:-0600
TZNAME:MDT
DTSTART:20240310T090000
END:DAYLIGHT
BEGIN:STANDARD
TZOFFSETFROM:-0600
TZOFFSETTO:-0700
TZNAME:MST
DTSTART:20241103T080000
END:STANDARD
BEGIN:DAYLIGHT
TZOFFSETFROM:-0700
TZOFFSETTO:-0600
TZNAME:MDT
DTSTART:20250309T090000
END:DAYLIGHT
BEGIN:STANDARD
TZOFFSETFROM:-0600
TZOFFSETTO:-0700
TZNAME:MST
DTSTART:20251102T080000
END:STANDARD
BEGIN:DAYLIGHT
TZOFFSETFROM:-0700
TZOFFSETTO:-0600
TZNAME:MDT
DTSTART:20260308T090000
END:DAYLIGHT
BEGIN:STANDARD
TZOFFSETFROM:-0600
TZOFFSETTO:-0700
TZNAME:MST
DTSTART:20261101T080000
END:STANDARD
END:VTIMEZONE
BEGIN:VEVENT
DTSTART;TZID=America/Denver:20250502T130000
DTEND;TZID=America/Denver:20250502T130000
DTSTAMP:20260425T192526
CREATED:20241220T233219Z
LAST-MODIFIED:20241220T233219Z
UID:67161-1746190800-1746190800@www.nmhu.edu
SUMMARY:NMHU Baseball vs. Colorado Christian University
DESCRIPTION:NMHU Baseball vs. Colorado Christian University\, Brandt Baseball Field\, 5/2/2025\, 1:00 PM
URL:https://www.nmhu.edu/event/nmhu-baseball-vs-colorado-christian-university-8/
LOCATION:Brandt Baseball Field
CATEGORIES:Athletics,NMHU Events,NMHU Sports
END:VEVENT
BEGIN:VEVENT
DTSTART;TZID=America/Denver:20250502T160000
DTEND;TZID=America/Denver:20250502T160000
DTSTAMP:20260425T192526
CREATED:20241220T233643Z
LAST-MODIFIED:20241220T233643Z
UID:67162-1746201600-1746201600@www.nmhu.edu
SUMMARY:NMHU Baseball vs. Colorado Christian University
DESCRIPTION:NMHU Baseball vs. Colorado Christian University\, Brandt Baseball Field\, 5/2/2025\, 4:00 PM
URL:https://www.nmhu.edu/event/nmhu-baseball-vs-colorado-christian-university-9/
LOCATION:Brandt Baseball Field
CATEGORIES:Athletics,NMHU Events,NMHU Sports
END:VEVENT
BEGIN:VEVENT
DTSTART;TZID=America/Denver:20250502T180000
DTEND;TZID=America/Denver:20250502T180000
DTSTAMP:20260425T192526
CREATED:20250402T202537Z
LAST-MODIFIED:20250402T202537Z
UID:76586-1746208800-1746208800@www.nmhu.edu
SUMMARY:Student Recital: Brandon Areola
DESCRIPTION:Student Recital: Brandon Areola\nFriday May 2nd 2025\n6:00 pm ilfeld Auditorium\n\nFree Admission
URL:https://www.nmhu.edu/event/student-recital-brandon-areola/
LOCATION:Ilfeld Auditorium\,  	900 University Avenue\, Las Vegas\, NM\, 87701\, United States
CATEGORIES:Arts,NMHU Events
END:VEVENT
BEGIN:VEVENT
DTSTART;TZID=America/Denver:20250503T120000
DTEND;TZID=America/Denver:20250503T120000
DTSTAMP:20260425T192526
CREATED:20241220T234429Z
LAST-MODIFIED:20241220T234429Z
UID:67163-1746273600-1746273600@www.nmhu.edu
SUMMARY:NMHU Baseball vs. Colorado Christian University
DESCRIPTION:NMHU Baseball vs. Colorado Christian University\, Brandt Baseball Field\, 5/3/2025\, 12:00 PM
URL:https://www.nmhu.edu/event/nmhu-baseball-vs-colorado-christian-university-10/
LOCATION:Brandt Baseball Field
CATEGORIES:Athletics,NMHU Events,NMHU Sports
END:VEVENT
BEGIN:VEVENT
DTSTART;TZID=America/Denver:20250503T150000
DTEND;TZID=America/Denver:20250503T150000
DTSTAMP:20260425T192526
CREATED:20241220T234606Z
LAST-MODIFIED:20241220T234606Z
UID:67164-1746284400-1746284400@www.nmhu.edu
SUMMARY:NMHU Baseball vs. Colorado Christian University
DESCRIPTION:NMHU Baseball vs. Colorado Christian University\, Brandt Baseball Field\, 5/3/2025\, 3:00 PM
URL:https://www.nmhu.edu/event/nmhu-baseball-vs-colorado-christian-university-11/
LOCATION:Brandt Baseball Field
CATEGORIES:Athletics,NMHU Events,NMHU Sports
END:VEVENT
BEGIN:VEVENT
DTSTART;VALUE=DATE:20250510
DTEND;VALUE=DATE:20250511
DTSTAMP:20260425T192526
CREATED:20250108T174621Z
LAST-MODIFIED:20250108T174621Z
UID:68218-1746835200-1746921599@www.nmhu.edu
SUMMARY:Class of 2025 Commencement
DESCRIPTION:Class of 2025 Commencement Ceremony\, NMHU Main Campus
URL:https://www.nmhu.edu/event/class-of-2025-commencement/
LOCATION:Main Campus
CATEGORIES:Academic Calendar,NMHU Events
END:VEVENT
BEGIN:VEVENT
DTSTART;TZID=America/Denver:20250528T120000
DTEND;TZID=America/Denver:20250528T140000
DTSTAMP:20260425T192526
CREATED:20250115T230826Z
LAST-MODIFIED:20250115T230826Z
UID:68432-1748433600-1748440800@www.nmhu.edu
SUMMARY:Book Lovers Social Hour
DESCRIPTION:What are you reading? Come chat about books with librarians and other book lovers! \nJoin us for Book Lovers Social Hour every 4th Wednesday\, 12-2pm at Donnelly Library\, 3rd Floor (near the administrative offices). \nUpcoming Dates: \n\nJanuary 22nd\nFebruary 26th\nMarch 26th\nApril 23rd\nMay 28th\n\nFree\, and open to students\, faculty\, staff and the community
URL:https://www.nmhu.edu/event/book-lovers-social-hour/2025-05-28/
LOCATION:Donnelly Library\, 802 National Avenue\, Las Vegas\, NM\, 87701\, United States
CATEGORIES:Arts,Cultural,NMHU Events
ATTACH;FMTTYPE=image/jpeg:https://www.nmhu.edu/wp-content/uploads/2025/01/Book-Lovers-Social-Hour-Spring-25-scaled.jpeg
END:VEVENT
END:VCALENDAR