BEGIN:VCALENDAR
VERSION:2.0
PRODID:-//New Mexico Highlands University - ECPv6.15.20//NONSGML v1.0//EN
CALSCALE:GREGORIAN
METHOD:PUBLISH
X-WR-CALNAME:New Mexico Highlands University
X-ORIGINAL-URL:https://www.nmhu.edu
X-WR-CALDESC:Events for New Mexico Highlands University
REFRESH-INTERVAL;VALUE=DURATION:PT1H
X-Robots-Tag:noindex
X-PUBLISHED-TTL:PT1H
BEGIN:VTIMEZONE
TZID:America/Denver
BEGIN:DAYLIGHT
TZOFFSETFROM:-0700
TZOFFSETTO:-0600
TZNAME:MDT
DTSTART:20230312T090000
END:DAYLIGHT
BEGIN:STANDARD
TZOFFSETFROM:-0600
TZOFFSETTO:-0700
TZNAME:MST
DTSTART:20231105T080000
END:STANDARD
BEGIN:DAYLIGHT
TZOFFSETFROM:-0700
TZOFFSETTO:-0600
TZNAME:MDT
DTSTART:20240310T090000
END:DAYLIGHT
BEGIN:STANDARD
TZOFFSETFROM:-0600
TZOFFSETTO:-0700
TZNAME:MST
DTSTART:20241103T080000
END:STANDARD
BEGIN:DAYLIGHT
TZOFFSETFROM:-0700
TZOFFSETTO:-0600
TZNAME:MDT
DTSTART:20250309T090000
END:DAYLIGHT
BEGIN:STANDARD
TZOFFSETFROM:-0600
TZOFFSETTO:-0700
TZNAME:MST
DTSTART:20251102T080000
END:STANDARD
BEGIN:DAYLIGHT
TZOFFSETFROM:-0700
TZOFFSETTO:-0600
TZNAME:MDT
DTSTART:20260308T090000
END:DAYLIGHT
BEGIN:STANDARD
TZOFFSETFROM:-0600
TZOFFSETTO:-0700
TZNAME:MST
DTSTART:20261101T080000
END:STANDARD
END:VTIMEZONE
BEGIN:VEVENT
DTSTART;TZID=America/Denver:20251210T173000
DTEND;TZID=America/Denver:20251210T173000
DTSTAMP:20260425T082332
CREATED:20251209T000852Z
LAST-MODIFIED:20251209T000944Z
UID:87384-1765387800-1765387800@www.nmhu.edu
SUMMARY:Media Arts Student Showcase - Fall 2025
DESCRIPTION:NMHU Media Arts Student Showcase\nDecember 10 at 5:30 pm\nFilm Screening at 6:30pm \nLocation: McCaffrey Trolley Building
URL:https://www.nmhu.edu/event/media-arts-student-showcase-fall-2025/
LOCATION:Media Arts Trolley Building
CATEGORIES:Arts,NMHU Events,Social
END:VEVENT
BEGIN:VEVENT
DTSTART;TZID=America/Denver:20251015T150000
DTEND;TZID=America/Denver:20251015T170000
DTSTAMP:20260425T082332
CREATED:20250811T214927Z
LAST-MODIFIED:20250811T214927Z
UID:83887-1760540400-1760547600@www.nmhu.edu
SUMMARY:Scream Zine Workshop
DESCRIPTION:What makes you wanna scream? Let’s get together and turn those scaries into zines! Zines are small-batch\, self-published booklets. In this combination writing and photography workshop\, over four sessions\, we will make individual zines using our own original writing and digital photography. Jonathan Lujan (ARMAS) will give us tips and tricks for taking the best phone photos and lead our photography excursions. Nicole (Donnelly Library) will lead our writing workshops and zine-making process. Materials and photo prints provided. Email nicole@nmhu.edu to sign up. Limited spots available. Free and open to anyone 16+. \nSeptember 24: Overview & photography excursion\nOctober 1: Writing workshop & photography excursion\nOctober 8: Zine-making workshop\nOctober 15: Zine-making workshop\n3-5 pm\, Donnelly Library Multipurpose Room
URL:https://www.nmhu.edu/event/scream-zine-workshop/2025-10-15/
LOCATION:Donnelly Library\, 802 National Avenue\, Las Vegas\, NM\, 87701\, United States
CATEGORIES:Arts,NMHU Events,Social
END:VEVENT
BEGIN:VEVENT
DTSTART;TZID=America/Denver:20251008T150000
DTEND;TZID=America/Denver:20251008T170000
DTSTAMP:20260425T082332
CREATED:20250811T214927Z
LAST-MODIFIED:20250811T214927Z
UID:83886-1759935600-1759942800@www.nmhu.edu
SUMMARY:Scream Zine Workshop
DESCRIPTION:What makes you wanna scream? Let’s get together and turn those scaries into zines! Zines are small-batch\, self-published booklets. In this combination writing and photography workshop\, over four sessions\, we will make individual zines using our own original writing and digital photography. Jonathan Lujan (ARMAS) will give us tips and tricks for taking the best phone photos and lead our photography excursions. Nicole (Donnelly Library) will lead our writing workshops and zine-making process. Materials and photo prints provided. Email nicole@nmhu.edu to sign up. Limited spots available. Free and open to anyone 16+. \nSeptember 24: Overview & photography excursion\nOctober 1: Writing workshop & photography excursion\nOctober 8: Zine-making workshop\nOctober 15: Zine-making workshop\n3-5 pm\, Donnelly Library Multipurpose Room
URL:https://www.nmhu.edu/event/scream-zine-workshop/2025-10-08/
LOCATION:Donnelly Library\, 802 National Avenue\, Las Vegas\, NM\, 87701\, United States
CATEGORIES:Arts,NMHU Events,Social
END:VEVENT
BEGIN:VEVENT
DTSTART;TZID=America/Denver:20251001T150000
DTEND;TZID=America/Denver:20251001T170000
DTSTAMP:20260425T082332
CREATED:20250811T214927Z
LAST-MODIFIED:20250811T214927Z
UID:83885-1759330800-1759338000@www.nmhu.edu
SUMMARY:Scream Zine Workshop
DESCRIPTION:What makes you wanna scream? Let’s get together and turn those scaries into zines! Zines are small-batch\, self-published booklets. In this combination writing and photography workshop\, over four sessions\, we will make individual zines using our own original writing and digital photography. Jonathan Lujan (ARMAS) will give us tips and tricks for taking the best phone photos and lead our photography excursions. Nicole (Donnelly Library) will lead our writing workshops and zine-making process. Materials and photo prints provided. Email nicole@nmhu.edu to sign up. Limited spots available. Free and open to anyone 16+. \nSeptember 24: Overview & photography excursion\nOctober 1: Writing workshop & photography excursion\nOctober 8: Zine-making workshop\nOctober 15: Zine-making workshop\n3-5 pm\, Donnelly Library Multipurpose Room
URL:https://www.nmhu.edu/event/scream-zine-workshop/2025-10-01/
LOCATION:Donnelly Library\, 802 National Avenue\, Las Vegas\, NM\, 87701\, United States
CATEGORIES:Arts,NMHU Events,Social
END:VEVENT
BEGIN:VEVENT
DTSTART;TZID=America/Denver:20250924T150000
DTEND;TZID=America/Denver:20250924T170000
DTSTAMP:20260425T082332
CREATED:20250811T214927Z
LAST-MODIFIED:20250811T214927Z
UID:83883-1758726000-1758733200@www.nmhu.edu
SUMMARY:Scream Zine Workshop
DESCRIPTION:What makes you wanna scream? Let’s get together and turn those scaries into zines! Zines are small-batch\, self-published booklets. In this combination writing and photography workshop\, over four sessions\, we will make individual zines using our own original writing and digital photography. Jonathan Lujan (ARMAS) will give us tips and tricks for taking the best phone photos and lead our photography excursions. Nicole (Donnelly Library) will lead our writing workshops and zine-making process. Materials and photo prints provided. Email nicole@nmhu.edu to sign up. Limited spots available. Free and open to anyone 16+. \nSeptember 24: Overview & photography excursion\nOctober 1: Writing workshop & photography excursion\nOctober 8: Zine-making workshop\nOctober 15: Zine-making workshop\n3-5 pm\, Donnelly Library Multipurpose Room
URL:https://www.nmhu.edu/event/scream-zine-workshop/2025-09-24/
LOCATION:Donnelly Library\, 802 National Avenue\, Las Vegas\, NM\, 87701\, United States
CATEGORIES:Arts,NMHU Events,Social
END:VEVENT
BEGIN:VEVENT
DTSTART;TZID=America/Denver:20250916T160000
DTEND;TZID=America/Denver:20250916T180000
DTSTAMP:20260425T082332
CREATED:20250811T215619Z
LAST-MODIFIED:20250811T215619Z
UID:83892-1758038400-1758045600@www.nmhu.edu
SUMMARY:From Archives to Action: “Just a Jock”: Community Building\, Resilience\, and Athleticism
DESCRIPTION:From Archives to Action: “Just a Jock”: Community Building\, Resilience\, and Athleticism\nTuesday\, September 16th\, 4-6 PM\, Donnelly Library\, 3rd Floor \nJoin us for a conversation with Dr. Jim Abreu\, educator\, administrator\, and HU alum. Dr. Abreu will discuss his experiences as a student athlete and later educational leader in Northern New Mexico. How has athleticism helped promote diversity and equality on campus? How have students navigated the intersections of identities as athletes\, scholars\, and community members? How is this history reflected in the archival collections of the institution and individuals? Free and open to everyone.
URL:https://www.nmhu.edu/event/from-archives-to-action-just-a-jock-community-building-resilience-and-athleticism/
LOCATION:Donnelly Library\, 802 National Avenue\, Las Vegas\, NM\, 87701\, United States
CATEGORIES:Arts,Homecoming,NMHU Events,Social
END:VEVENT
BEGIN:VEVENT
DTSTART;TZID=America/Denver:20250910T173000
DTEND;TZID=America/Denver:20250910T173000
DTSTAMP:20260425T082332
CREATED:20250811T215249Z
LAST-MODIFIED:20250811T215249Z
UID:83889-1757525400-1757525400@www.nmhu.edu
SUMMARY:"Spirit of Nature" Book Talk and Signing
DESCRIPTION:NMHU’s Donnelly Library welcomes Dr. Brian Miller for a brief talk\, community discussion\, and book signing for Spirit of Nature in Northern New Mexico\, a book “for the amateur naturalist who doesn’t mind muddy shoes or wet socks with seeds sticking in them. It’s for the nature lover who enjoys watching the change in seasons and the way nature adapts to them.” Copies of the book will be available for purchase (no purchase necessary to attend). This event is free and open to everyone. September 10th\, 5:30 pm\, Donnelly Library Multipurpose Room
URL:https://www.nmhu.edu/event/spirit-of-nature-book-talk-and-signing/
LOCATION:Donnelly Library\, 802 National Avenue\, Las Vegas\, NM\, 87701\, United States
CATEGORIES:Arts,NMHU Events,Social
END:VEVENT
BEGIN:VEVENT
DTSTART;TZID=America/Denver:20250116T160000
DTEND;TZID=America/Denver:20250116T160000
DTSTAMP:20260425T082332
CREATED:20250107T233810Z
LAST-MODIFIED:20250107T233810Z
UID:68194-1737043200-1737043200@www.nmhu.edu
SUMMARY:Purple Pub Faculty Lounge: A Tragedy in Five Acts
DESCRIPTION:$0 cost. Jan. 16\, 4 pm. Musical event. \nA Tragedy in Five Acts\, we use an absurdist fabulation of Amerigo Vespucci’s travels to the New World as a conceit to sustain our tribute to Jimi’s Woodstock Star Spangled Banner. \nThe 12-Bar Blues based ambient textures are designed less as performance and more as background sonic atmosphere. We work through a repetitious mash-up of a basic 12-Bar shuffle\, Mississippi Fred McDowell’s You Gotta Move and Elmore James’s Dust My Broom\, a simple D Major scale\, and of course Francis Scott Key’s Star Spangled Banner. It is rooted in the relentlessly rhythmic pulse of R.L. Burnside’s Hill Country Blues and of the Rajasthani Cobra Gypsies\, and in the slow aural meanderings of Brian Eno.
URL:https://www.nmhu.edu/event/purple-pub-faculty-lounge-a-tragedy-in-five-acts/
LOCATION:Purple Pub Faculty Lounge\, Las Vegas\, NM\, United States
CATEGORIES:Arts,NMHU Events,Social
END:VEVENT
BEGIN:VEVENT
DTSTART;TZID=America/Denver:20241122T190000
DTEND;TZID=America/Denver:20241122T220000
DTSTAMP:20260425T082332
CREATED:20241112T232855Z
LAST-MODIFIED:20241112T232855Z
UID:65662-1732302000-1732312800@www.nmhu.edu
SUMMARY:The Reverse Engineering RAVE
DESCRIPTION:DJ Luke | DJ Gen Eric 2.0 | DJ Mariodoblario\nAn interactive STEM experience with music\, games\, excellent prizes\, pizza \,and drinks!
URL:https://www.nmhu.edu/event/the-reverse-engineering-rave/
LOCATION:SUB Ballroom
CATEGORIES:NMHU Events,Social
END:VEVENT
END:VCALENDAR