BEGIN:VCALENDAR
VERSION:2.0
PRODID:-//New Mexico Highlands University - ECPv6.15.20//NONSGML v1.0//EN
CALSCALE:GREGORIAN
METHOD:PUBLISH
X-WR-CALNAME:New Mexico Highlands University
X-ORIGINAL-URL:https://www.nmhu.edu
X-WR-CALDESC:Events for New Mexico Highlands University
REFRESH-INTERVAL;VALUE=DURATION:PT1H
X-Robots-Tag:noindex
X-PUBLISHED-TTL:PT1H
BEGIN:VTIMEZONE
TZID:America/Denver
BEGIN:DAYLIGHT
TZOFFSETFROM:-0700
TZOFFSETTO:-0600
TZNAME:MDT
DTSTART:20240310T090000
END:DAYLIGHT
BEGIN:STANDARD
TZOFFSETFROM:-0600
TZOFFSETTO:-0700
TZNAME:MST
DTSTART:20241103T080000
END:STANDARD
BEGIN:DAYLIGHT
TZOFFSETFROM:-0700
TZOFFSETTO:-0600
TZNAME:MDT
DTSTART:20250309T090000
END:DAYLIGHT
BEGIN:STANDARD
TZOFFSETFROM:-0600
TZOFFSETTO:-0700
TZNAME:MST
DTSTART:20251102T080000
END:STANDARD
BEGIN:DAYLIGHT
TZOFFSETFROM:-0700
TZOFFSETTO:-0600
TZNAME:MDT
DTSTART:20260308T090000
END:DAYLIGHT
BEGIN:STANDARD
TZOFFSETFROM:-0600
TZOFFSETTO:-0700
TZNAME:MST
DTSTART:20261101T080000
END:STANDARD
END:VTIMEZONE
BEGIN:VEVENT
DTSTART;TZID=America/Denver:20250710T173000
DTEND;TZID=America/Denver:20250710T190000
DTSTAMP:20260425T051209
CREATED:20250707T153323Z
LAST-MODIFIED:20250707T153323Z
UID:82894-1752168600-1752174000@www.nmhu.edu
SUMMARY:Story Book Bingo
DESCRIPTION:The Donnelly Library Presents: Story Book Bingo. It’s Bingo with a literary twist! Children and their families are invited to come to the Donnelly Library for snacks\, prizes and Bingo featuring your favorite story book characters. This event is free and open to the public. Bingo winners receive a free book. Event dates are July 10th\, 17th\, and 24th. \nStarting time is 5:30 pm. \nEvent location is 802 National Ave.
URL:https://www.nmhu.edu/event/story-book-bingo/2025-07-10/
LOCATION:Donnelly Library\, 802 National Avenue\, Las Vegas\, NM\, 87701\, United States
CATEGORIES:Arts,NMHU Events
END:VEVENT
BEGIN:VEVENT
DTSTART;VALUE=DATE:20250712
DTEND;VALUE=DATE:20250713
DTSTAMP:20260425T051209
CREATED:20250707T151726Z
LAST-MODIFIED:20250707T151726Z
UID:82890-1752278400-1752364799@www.nmhu.edu
SUMMARY:2025 New Student Virtual Orientation
DESCRIPTION:2025 New Student Virtual Orientation\nNMHU Virtual Orientation will be hosted via Zoom. Please contact studentsuccess@nmhu.edu for a copy of the Zoom link the day before Orientation. Events include: \n\nCampus tour\nTechnology Training\nFaculty Meet and Greet\nResources & housing arrangements
URL:https://www.nmhu.edu/event/2025-new-student-virtual-orientation/
CATEGORIES:NMHU Events
END:VEVENT
END:VCALENDAR